BEGIN:VCALENDAR
VERSION:2.0
PRODID:-//Centennial Centre  - ECPv6.15.17.1//NONSGML v1.0//EN
CALSCALE:GREGORIAN
METHOD:PUBLISH
X-WR-CALNAME:Centennial Centre 
X-ORIGINAL-URL:https://centennialcentre.ca
X-WR-CALDESC:Events for Centennial Centre 
REFRESH-INTERVAL;VALUE=DURATION:PT1H
X-Robots-Tag:noindex
X-PUBLISHED-TTL:PT1H
BEGIN:VTIMEZONE
TZID:America/Edmonton
BEGIN:DAYLIGHT
TZOFFSETFROM:-0700
TZOFFSETTO:-0600
TZNAME:MDT
DTSTART:20250309T090000
END:DAYLIGHT
BEGIN:STANDARD
TZOFFSETFROM:-0600
TZOFFSETTO:-0700
TZNAME:MST
DTSTART:20251102T080000
END:STANDARD
BEGIN:DAYLIGHT
TZOFFSETFROM:-0700
TZOFFSETTO:-0600
TZNAME:MDT
DTSTART:20260308T090000
END:DAYLIGHT
BEGIN:STANDARD
TZOFFSETFROM:-0600
TZOFFSETTO:-0700
TZNAME:MST
DTSTART:20261101T080000
END:STANDARD
BEGIN:DAYLIGHT
TZOFFSETFROM:-0700
TZOFFSETTO:-0600
TZNAME:MDT
DTSTART:20270314T090000
END:DAYLIGHT
BEGIN:STANDARD
TZOFFSETFROM:-0600
TZOFFSETTO:-0700
TZNAME:MST
DTSTART:20271107T080000
END:STANDARD
END:VTIMEZONE
BEGIN:VEVENT
DTSTART;TZID=America/Edmonton:20260330T130000
DTEND;TZID=America/Edmonton:20260330T150000
DTSTAMP:20260424T015649
CREATED:20260326T125150Z
LAST-MODIFIED:20260326T125150Z
UID:10004533-1774875600-1774882800@centennialcentre.ca
SUMMARY:Free Movie: Anaconda
DESCRIPTION:Movies are FREE thanks to Alstar Group.
URL:https://centennialcentre.ca/event/free-movie-anaconda/
LOCATION:Alstar Movie Theatre (Lecture Hall)
CATEGORIES:FREE Programming,Movie Showings
ATTACH;FMTTYPE=image/png:https://centennialcentre.ca/wp-content/uploads/2026/03/anaconda.png
END:VEVENT
BEGIN:VEVENT
DTSTART;TZID=America/Edmonton:20260331T130000
DTEND;TZID=America/Edmonton:20260331T150000
DTSTAMP:20260424T015649
CREATED:20260326T125333Z
LAST-MODIFIED:20260326T125333Z
UID:10004534-1774962000-1774969200@centennialcentre.ca
SUMMARY:Free Movie: A Bug’s Life
DESCRIPTION:Movies are FREE thanks to Alstar Group.
URL:https://centennialcentre.ca/event/free-movie-a-bugs-life/
LOCATION:Alstar Movie Theatre (Lecture Hall)
CATEGORIES:FREE Programming,Movie Showings
ATTACH;FMTTYPE=image/png:https://centennialcentre.ca/wp-content/uploads/2026/03/a-bugs-life.png
END:VEVENT
BEGIN:VEVENT
DTSTART;TZID=America/Edmonton:20260401T130000
DTEND;TZID=America/Edmonton:20260401T150000
DTSTAMP:20260424T015649
CREATED:20260326T125442Z
LAST-MODIFIED:20260326T125442Z
UID:10004535-1775048400-1775055600@centennialcentre.ca
SUMMARY:Free Movie: Song Sung Blue
DESCRIPTION:Movies are FREE thanks to Alstar Group.
URL:https://centennialcentre.ca/event/free-movie-song-sung-blue-2/
LOCATION:Alstar Movie Theatre (Lecture Hall)
CATEGORIES:FREE Programming,Movie Showings
ATTACH;FMTTYPE=image/png:https://centennialcentre.ca/wp-content/uploads/2026/03/son-sung-blue.png
END:VEVENT
BEGIN:VEVENT
DTSTART;TZID=America/Edmonton:20260401T160000
DTEND;TZID=America/Edmonton:20260401T200000
DTSTAMP:20260424T015649
CREATED:20260326T163117Z
LAST-MODIFIED:20260326T163118Z
UID:10004095-1775059200-1775073600@centennialcentre.ca
SUMMARY:FREE Open Climb Time Wednesday
DESCRIPTION:Reach new heights at the Centennial Centre’s Open Climb Time! This program welcomes climbers of all experience levels to enjoy our climbing wall in a fun\, supportive setting. \n🕓 Drop-In Hours: Wednesdays 4:00–8:00 PM | Saturdays 12:00–4:00 PMNo registration required — simply drop in\, gear up\, and start your climb. Great for kids\, teens\, and families looking for an exciting indoor activity. \nSpecial thanks to Federation Construction for their support in bringing this program to our community. \nSave time when you complete your waiver form at home. Complete the fillable PDF\, print it off and bring it in to save time when registering. \nDownload Waiver to Complete
URL:https://centennialcentre.ca/event/free-open-climb-time-wednesday-3-2/
LOCATION:Federation Construction Climbing Wall
CATEGORIES:Adult Recreation,FREE Programming,Indoor Climbing Wall,Kids Recreation,Recreation,Youth Programming
ATTACH;FMTTYPE=image/png:https://centennialcentre.ca/wp-content/uploads/2025/09/Open-Climb-Time-Generic.png
END:VEVENT
BEGIN:VEVENT
DTSTART;TZID=America/Edmonton:20260402T130000
DTEND;TZID=America/Edmonton:20260402T150000
DTSTAMP:20260424T015649
CREATED:20260326T125549Z
LAST-MODIFIED:20260326T125549Z
UID:10004536-1775134800-1775142000@centennialcentre.ca
SUMMARY:Free Movie: Nine Lives
DESCRIPTION:Movies are FREE thanks to Alstar Group.
URL:https://centennialcentre.ca/event/free-movie-nine-lives/
LOCATION:Alstar Movie Theatre (Lecture Hall)
CATEGORIES:FREE Programming,Movie Showings
ATTACH;FMTTYPE=image/png:https://centennialcentre.ca/wp-content/uploads/2026/03/nine-lives.png
END:VEVENT
BEGIN:VEVENT
DTSTART;TZID=America/Edmonton:20260404T120000
DTEND;TZID=America/Edmonton:20260404T160000
DTSTAMP:20260424T015649
CREATED:20260326T163231Z
LAST-MODIFIED:20260326T163231Z
UID:10002578-1775304000-1775318400@centennialcentre.ca
SUMMARY:FREE Open Climb Time Saturday
DESCRIPTION:Reach new heights at the Centennial Centre’s Open Climb Time! This program welcomes climbers of all experience levels to enjoy our climbing wall in a fun\, supportive setting. \n🕓 Drop-In Hours: Wednesdays 4:00–8:00 PM | Saturdays 12:00–4:00 PMNo registration required — simply drop in\, gear up\, and start your climb. Great for kids\, teens\, and families looking for an exciting indoor activity. \nSpecial thanks to Federation Construction for their support in bringing this program to our community. \nSave time when you complete your waiver form at home. Complete the fillable PDF\, print it off and bring it in to save time when registering. \nDownload Waiver to Complete
URL:https://centennialcentre.ca/event/free-open-climb-time-saturday-3-2-3/
LOCATION:Federation Construction Climbing Wall
CATEGORIES:Adult Recreation,FREE Programming,Indoor Climbing Wall,Kids Recreation,Recreation,Youth Programming
ATTACH;FMTTYPE=image/png:https://centennialcentre.ca/wp-content/uploads/2025/09/Open-Climb-Time-Generic.png
END:VEVENT
BEGIN:VEVENT
DTSTART;TZID=America/Edmonton:20260404T130000
DTEND;TZID=America/Edmonton:20260404T150000
DTSTAMP:20260424T015649
CREATED:20260326T125853Z
LAST-MODIFIED:20260326T125853Z
UID:10004539-1775307600-1775314800@centennialcentre.ca
SUMMARY:Free Movie: Zootopia 2
DESCRIPTION:Movies are FREE thanks to Alstar Group.
URL:https://centennialcentre.ca/event/free-movie-zootopia-2-4/
LOCATION:Alstar Movie Theatre (Lecture Hall)
CATEGORIES:FREE Programming,Movie Showings
ATTACH;FMTTYPE=image/png:https://centennialcentre.ca/wp-content/uploads/2026/03/zootopia-2.png
END:VEVENT
BEGIN:VEVENT
DTSTART;TZID=America/Edmonton:20260404T190000
DTEND;TZID=America/Edmonton:20260404T210000
DTSTAMP:20260424T015649
CREATED:20260326T125750Z
LAST-MODIFIED:20260326T125750Z
UID:10004538-1775329200-1775336400@centennialcentre.ca
SUMMARY:Free Movie: A Better Life
DESCRIPTION:Movies are FREE thanks to Alstar Group.
URL:https://centennialcentre.ca/event/free-movie-a-better-life-2/
LOCATION:Alstar Movie Theatre (Lecture Hall)
CATEGORIES:FREE Programming,Movie Showings
ATTACH;FMTTYPE=image/png:https://centennialcentre.ca/wp-content/uploads/2026/03/a-better-life.png
END:VEVENT
BEGIN:VEVENT
DTSTART;TZID=America/Edmonton:20260406T130000
DTEND;TZID=America/Edmonton:20260406T150000
DTSTAMP:20260424T015649
CREATED:20260331T164122Z
LAST-MODIFIED:20260331T164513Z
UID:10004540-1775480400-1775487600@centennialcentre.ca
SUMMARY:Free Movie: Hop
DESCRIPTION:Movies are FREE thanks to Alstar Group.
URL:https://centennialcentre.ca/event/free-movie-hop/
LOCATION:Alstar Movie Theatre (Lecture Hall)
CATEGORIES:FREE Programming,Movie Showings
ATTACH;FMTTYPE=image/png:https://centennialcentre.ca/wp-content/uploads/2026/03/hop.png
END:VEVENT
BEGIN:VEVENT
DTSTART;TZID=America/Edmonton:20260407T130000
DTEND;TZID=America/Edmonton:20260407T150000
DTSTAMP:20260424T015649
CREATED:20260331T164456Z
LAST-MODIFIED:20260331T164456Z
UID:10004541-1775566800-1775574000@centennialcentre.ca
SUMMARY:Free Movie: Nanny McPhee Returns
DESCRIPTION:Movies are FREE thanks to Alstar Group.
URL:https://centennialcentre.ca/event/free-movie-nanny-mcphee-returns/
LOCATION:Alstar Movie Theatre (Lecture Hall)
CATEGORIES:FREE Programming,Movie Showings
ATTACH;FMTTYPE=image/png:https://centennialcentre.ca/wp-content/uploads/2026/03/nanny-mcphee-returns.png
END:VEVENT
BEGIN:VEVENT
DTSTART;TZID=America/Edmonton:20260408T130000
DTEND;TZID=America/Edmonton:20260408T150000
DTSTAMP:20260424T015649
CREATED:20260331T171558Z
LAST-MODIFIED:20260331T171558Z
UID:10004542-1775653200-1775660400@centennialcentre.ca
SUMMARY:Free Movie: Migration
DESCRIPTION:Movies are FREE thanks to Alstar Group.
URL:https://centennialcentre.ca/event/free-movie-migration/
LOCATION:Alstar Movie Theatre (Lecture Hall)
CATEGORIES:FREE Programming,Movie Showings
ATTACH;FMTTYPE=image/png:https://centennialcentre.ca/wp-content/uploads/2026/03/migration.png
END:VEVENT
BEGIN:VEVENT
DTSTART;TZID=America/Edmonton:20260408T160000
DTEND;TZID=America/Edmonton:20260408T200000
DTSTAMP:20260424T015649
CREATED:20260408T173905Z
LAST-MODIFIED:20260408T173906Z
UID:10004096-1775664000-1775678400@centennialcentre.ca
SUMMARY:FREE Open Climb Time Wednesday
DESCRIPTION:Reach new heights at the Centennial Centre’s Open Climb Time! This program welcomes climbers of all experience levels to enjoy our climbing wall in a fun\, supportive setting. \n🕓 Drop-In Hours: Wednesdays 4:00–8:00 PM | Saturdays 12:00–4:00 PMNo registration required — simply drop in\, gear up\, and start your climb. Great for kids\, teens\, and families looking for an exciting indoor activity. \nSpecial thanks to Federation Construction for their support in bringing this program to our community. \nSave time when you complete your waiver form at home. Complete the fillable PDF\, print it off and bring it in to save time when registering. \nDownload Waiver to Complete
URL:https://centennialcentre.ca/event/free-open-climb-time-wednesday-3-3/
LOCATION:Federation Construction Climbing Wall
CATEGORIES:Adult Recreation,FREE Programming,Indoor Climbing Wall,Kids Recreation,Recreation,Youth Programming
ATTACH;FMTTYPE=image/png:https://centennialcentre.ca/wp-content/uploads/2025/09/Open-Climb-Time-Generic.png
END:VEVENT
BEGIN:VEVENT
DTSTART;TZID=America/Edmonton:20260409T130000
DTEND;TZID=America/Edmonton:20260409T150000
DTSTAMP:20260424T015649
CREATED:20260331T171715Z
LAST-MODIFIED:20260331T171715Z
UID:10004543-1775739600-1775746800@centennialcentre.ca
SUMMARY:Free Movie: Twilight
DESCRIPTION:Movies are FREE thanks to Alstar Group.
URL:https://centennialcentre.ca/event/free-movie-twilight/
LOCATION:Alstar Movie Theatre (Lecture Hall)
CATEGORIES:FREE Programming,Movie Showings
ATTACH;FMTTYPE=image/jpeg:https://centennialcentre.ca/wp-content/uploads/2024/12/Twilight.jpg
END:VEVENT
BEGIN:VEVENT
DTSTART;TZID=America/Edmonton:20260410T130000
DTEND;TZID=America/Edmonton:20260410T150000
DTSTAMP:20260424T015649
CREATED:20260331T171815Z
LAST-MODIFIED:20260331T171815Z
UID:10004544-1775826000-1775833200@centennialcentre.ca
SUMMARY:Free Movie: Robin Hood
DESCRIPTION:Movies are FREE thanks to Alstar Group.
URL:https://centennialcentre.ca/event/free-movie-robin-hood/
LOCATION:Alstar Movie Theatre (Lecture Hall)
CATEGORIES:FREE Programming,Movie Showings
ATTACH;FMTTYPE=image/png:https://centennialcentre.ca/wp-content/uploads/2026/03/robinhood.png
END:VEVENT
BEGIN:VEVENT
DTSTART;TZID=America/Edmonton:20260410T190000
DTEND;TZID=America/Edmonton:20260410T210000
DTSTAMP:20260424T015649
CREATED:20260331T171952Z
LAST-MODIFIED:20260331T171952Z
UID:10004545-1775847600-1775854800@centennialcentre.ca
SUMMARY:Free Movie: Hamnet
DESCRIPTION:Movies are FREE thanks to Alstar Group.
URL:https://centennialcentre.ca/event/free-movie-hamnet/
LOCATION:Alstar Movie Theatre (Lecture Hall)
CATEGORIES:FREE Programming,Movie Showings
ATTACH;FMTTYPE=image/png:https://centennialcentre.ca/wp-content/uploads/2026/03/Hamnet.png
END:VEVENT
BEGIN:VEVENT
DTSTART;TZID=America/Edmonton:20260411T120000
DTEND;TZID=America/Edmonton:20260411T160000
DTSTAMP:20260424T015649
CREATED:20260326T163308Z
LAST-MODIFIED:20260326T163308Z
UID:10002579-1775908800-1775923200@centennialcentre.ca
SUMMARY:FREE Open Climb Time Saturday
DESCRIPTION:Reach new heights at the Centennial Centre’s Open Climb Time! This program welcomes climbers of all experience levels to enjoy our climbing wall in a fun\, supportive setting. \n🕓 Drop-In Hours: Wednesdays 4:00–8:00 PM | Saturdays 12:00–4:00 PMNo registration required — simply drop in\, gear up\, and start your climb. Great for kids\, teens\, and families looking for an exciting indoor activity. \nSpecial thanks to Federation Construction for their support in bringing this program to our community. \nSave time when you complete your waiver form at home. Complete the fillable PDF\, print it off and bring it in to save time when registering. \nDownload Waiver to Complete
URL:https://centennialcentre.ca/event/free-open-climb-time-saturday-3-2-4/
LOCATION:Federation Construction Climbing Wall
CATEGORIES:Adult Recreation,FREE Programming,Indoor Climbing Wall,Kids Recreation,Recreation,Youth Programming
ATTACH;FMTTYPE=image/png:https://centennialcentre.ca/wp-content/uploads/2025/09/Open-Climb-Time-Generic.png
END:VEVENT
BEGIN:VEVENT
DTSTART;TZID=America/Edmonton:20260411T130000
DTEND;TZID=America/Edmonton:20260411T150000
DTSTAMP:20260424T015649
CREATED:20260331T172101Z
LAST-MODIFIED:20260331T172101Z
UID:10004546-1775912400-1775919600@centennialcentre.ca
SUMMARY:Free Movie: Now You See Me: Now You Don’t
DESCRIPTION:Movies are FREE thanks to Alstar Group.
URL:https://centennialcentre.ca/event/free-movie-now-you-see-me-now-you-dont-2/
LOCATION:Alstar Movie Theatre (Lecture Hall)
CATEGORIES:FREE Programming,Movie Showings
ATTACH;FMTTYPE=image/png:https://centennialcentre.ca/wp-content/uploads/2026/03/now-you-see-me-now-you-dont.png
END:VEVENT
BEGIN:VEVENT
DTSTART;TZID=America/Edmonton:20260411T190000
DTEND;TZID=America/Edmonton:20260411T210000
DTSTAMP:20260424T015649
CREATED:20260331T172201Z
LAST-MODIFIED:20260331T172201Z
UID:10004547-1775934000-1775941200@centennialcentre.ca
SUMMARY:Free Movie: It Ends With Us
DESCRIPTION:Movies are FREE thanks to Alstar Group.
URL:https://centennialcentre.ca/event/free-movie-it-ends-with-us-2/
LOCATION:Alstar Movie Theatre (Lecture Hall)
CATEGORIES:FREE Programming,Movie Showings
ATTACH;FMTTYPE=image/png:https://centennialcentre.ca/wp-content/uploads/2026/02/It-Ends-With-Us.png
END:VEVENT
BEGIN:VEVENT
DTSTART;TZID=America/Edmonton:20260412T130000
DTEND;TZID=America/Edmonton:20260412T150000
DTSTAMP:20260424T015649
CREATED:20260331T172243Z
LAST-MODIFIED:20260331T172243Z
UID:10004548-1775998800-1776006000@centennialcentre.ca
SUMMARY:Free Movie: Mufasa:  The Lion King
DESCRIPTION:Movies are FREE thanks to Alstar Group.
URL:https://centennialcentre.ca/event/free-movie-mufasa-the-lion-king/
LOCATION:Alstar Movie Theatre (Lecture Hall)
CATEGORIES:FREE Programming,Movie Showings
ATTACH;FMTTYPE=image/png:https://centennialcentre.ca/wp-content/uploads/2025/06/Mufasa.png
END:VEVENT
BEGIN:VEVENT
DTSTART;TZID=America/Edmonton:20260413T130000
DTEND;TZID=America/Edmonton:20260413T150000
DTSTAMP:20260424T015649
CREATED:20260331T173303Z
LAST-MODIFIED:20260331T173303Z
UID:10004549-1776085200-1776092400@centennialcentre.ca
SUMMARY:Free Movie: A Dog’s Way Home
DESCRIPTION:Movies are FREE thanks to Alstar Group.
URL:https://centennialcentre.ca/event/free-movie-a-dogs-way-home/
LOCATION:Alstar Movie Theatre (Lecture Hall)
CATEGORIES:FREE Programming,Movie Showings
ATTACH;FMTTYPE=image/png:https://centennialcentre.ca/wp-content/uploads/2025/06/Dogs-Way-Home.png
END:VEVENT
BEGIN:VEVENT
DTSTART;TZID=America/Edmonton:20260414T130000
DTEND;TZID=America/Edmonton:20260414T150000
DTSTAMP:20260424T015649
CREATED:20260331T173441Z
LAST-MODIFIED:20260331T173441Z
UID:10004550-1776171600-1776178800@centennialcentre.ca
SUMMARY:Free Movie: Brave
DESCRIPTION:Movies are FREE thanks to Alstar Group.
URL:https://centennialcentre.ca/event/free-movie-brave/
LOCATION:Alstar Movie Theatre (Lecture Hall)
CATEGORIES:FREE Programming,Movie Showings
ATTACH;FMTTYPE=image/png:https://centennialcentre.ca/wp-content/uploads/2026/03/brave.png
END:VEVENT
BEGIN:VEVENT
DTSTART;TZID=America/Edmonton:20260415T130000
DTEND;TZID=America/Edmonton:20260415T150000
DTSTAMP:20260424T015649
CREATED:20260331T173521Z
LAST-MODIFIED:20260331T173521Z
UID:10004551-1776258000-1776265200@centennialcentre.ca
SUMMARY:Free Movie: Elio
DESCRIPTION:Movies are FREE thanks to Alstar Group.
URL:https://centennialcentre.ca/event/free-movie-elio/
LOCATION:Alstar Movie Theatre (Lecture Hall)
CATEGORIES:FREE Programming,Movie Showings
ATTACH;FMTTYPE=image/png:https://centennialcentre.ca/wp-content/uploads/2025/09/elio.png
END:VEVENT
BEGIN:VEVENT
DTSTART;TZID=America/Edmonton:20260415T160000
DTEND;TZID=America/Edmonton:20260415T200000
DTSTAMP:20260424T015649
CREATED:20260212T000634Z
LAST-MODIFIED:20260212T000850Z
UID:10004097-1776268800-1776283200@centennialcentre.ca
SUMMARY:FREE Open Climb Time Wednesday
DESCRIPTION:Reach new heights at the Centennial Centre’s Open Climb Time! This program welcomes climbers of all experience levels to enjoy our climbing wall in a fun\, supportive setting. \n🕓 Drop-In Hours: Wednesdays 4:00–8:00 PM | Saturdays 12:00–4:00 PMNo registration required — simply drop in\, gear up\, and start your climb. Great for kids\, teens\, and families looking for an exciting indoor activity. \nSpecial thanks to Federation Construction for their support in bringing this program to our community. \n\nSave time when you complete your waiver form at home. Complete the fillable PDF\, print it off and bring it in to save time when registering. \n\nDownload Waiver to Complete
URL:https://centennialcentre.ca/event/free-open-climb-time-wednesday-3/2026-04-15/
LOCATION:Federation Construction Climbing Wall
CATEGORIES:Adult Recreation,FREE Programming,Indoor Climbing Wall,Kids Recreation,Recreation,Youth Programming
ATTACH;FMTTYPE=image/png:https://centennialcentre.ca/wp-content/uploads/2025/09/Open-Climb-Time-Generic.png
END:VEVENT
BEGIN:VEVENT
DTSTART;TZID=America/Edmonton:20260416T130000
DTEND;TZID=America/Edmonton:20260416T150000
DTSTAMP:20260424T015649
CREATED:20260331T173559Z
LAST-MODIFIED:20260331T173559Z
UID:10004552-1776344400-1776351600@centennialcentre.ca
SUMMARY:Free Movie: Guardians of the Galaxy Vol 2
DESCRIPTION:Movies are FREE thanks to Alstar Group.
URL:https://centennialcentre.ca/event/free-movie-guardians-of-the-galaxy-vol-2-2/
LOCATION:Alstar Movie Theatre (Lecture Hall)
CATEGORIES:FREE Programming,Movie Showings
ATTACH;FMTTYPE=image/png:https://centennialcentre.ca/wp-content/uploads/2026/03/Guardians-of-the-Galaxy-Vol.-2.png
END:VEVENT
BEGIN:VEVENT
DTSTART;TZID=America/Edmonton:20260417T130000
DTEND;TZID=America/Edmonton:20260417T150000
DTSTAMP:20260424T015649
CREATED:20260331T173722Z
LAST-MODIFIED:20260331T173722Z
UID:10004553-1776430800-1776438000@centennialcentre.ca
SUMMARY:Free Movie: Finding Dory
DESCRIPTION:Movies are FREE thanks to Alstar Group.
URL:https://centennialcentre.ca/event/free-movie-finding-dory/
LOCATION:Alstar Movie Theatre (Lecture Hall)
CATEGORIES:FREE Programming,Movie Showings
ATTACH;FMTTYPE=image/png:https://centennialcentre.ca/wp-content/uploads/2026/03/Finding-Dory.png
END:VEVENT
BEGIN:VEVENT
DTSTART;TZID=America/Edmonton:20260417T190000
DTEND;TZID=America/Edmonton:20260417T210000
DTSTAMP:20260424T015649
CREATED:20260331T173816Z
LAST-MODIFIED:20260331T173816Z
UID:10004554-1776452400-1776459600@centennialcentre.ca
SUMMARY:Free Movie: Anaconda
DESCRIPTION:Movies are FREE thanks to Alstar Group.
URL:https://centennialcentre.ca/event/free-movie-anaconda-2/
LOCATION:Alstar Movie Theatre (Lecture Hall)
CATEGORIES:FREE Programming,Movie Showings
ATTACH;FMTTYPE=image/png:https://centennialcentre.ca/wp-content/uploads/2026/03/anaconda.png
END:VEVENT
BEGIN:VEVENT
DTSTART;TZID=America/Edmonton:20260418T120000
DTEND;TZID=America/Edmonton:20260418T160000
DTSTAMP:20260424T015649
CREATED:20260212T001023Z
LAST-MODIFIED:20260212T001024Z
UID:10002580-1776513600-1776528000@centennialcentre.ca
SUMMARY:FREE Open Climb Time Saturday
DESCRIPTION:Reach new heights at the Centennial Centre’s Open Climb Time! This program welcomes climbers of all experience levels to enjoy our climbing wall in a fun\, supportive setting. \n🕓 Drop-In Hours: Wednesdays 4:00–8:00 PM | Saturdays 12:00–4:00 PMNo registration required — simply drop in\, gear up\, and start your climb. Great for kids\, teens\, and families looking for an exciting indoor activity. \nSpecial thanks to Federation Construction for their support in bringing this program to our community. \n\nSave time when you complete your waiver form at home. Complete the fillable PDF\, print it off and bring it in to save time when registering. \n\nDownload Waiver to Complete
URL:https://centennialcentre.ca/event/free-open-climb-time-saturday-3-2/2026-04-18/
LOCATION:Federation Construction Climbing Wall
CATEGORIES:Adult Recreation,FREE Programming,Indoor Climbing Wall,Kids Recreation,Recreation,Youth Programming
ATTACH;FMTTYPE=image/png:https://centennialcentre.ca/wp-content/uploads/2025/09/Open-Climb-Time-Generic.png
END:VEVENT
BEGIN:VEVENT
DTSTART;TZID=America/Edmonton:20260418T130000
DTEND;TZID=America/Edmonton:20260418T150000
DTSTAMP:20260424T015649
CREATED:20260331T173946Z
LAST-MODIFIED:20260331T173946Z
UID:10004556-1776517200-1776524400@centennialcentre.ca
SUMMARY:Free Movie: Despicable Me 4
DESCRIPTION:Movies are FREE thanks to Alstar Group.
URL:https://centennialcentre.ca/event/free-movie-despicable-me-4/
LOCATION:Alstar Movie Theatre (Lecture Hall)
CATEGORIES:FREE Programming,Movie Showings
ATTACH;FMTTYPE=image/png:https://centennialcentre.ca/wp-content/uploads/2025/07/Despicable-Me-4.png
END:VEVENT
BEGIN:VEVENT
DTSTART;TZID=America/Edmonton:20260418T190000
DTEND;TZID=America/Edmonton:20260418T210000
DTSTAMP:20260424T015649
CREATED:20260331T173856Z
LAST-MODIFIED:20260331T173856Z
UID:10004555-1776538800-1776546000@centennialcentre.ca
SUMMARY:Free Movie: Song Sung Blue
DESCRIPTION:Movies are FREE thanks to Alstar Group.
URL:https://centennialcentre.ca/event/free-movie-song-sung-blue-3/
LOCATION:Alstar Movie Theatre (Lecture Hall)
CATEGORIES:FREE Programming,Movie Showings
ATTACH;FMTTYPE=image/png:https://centennialcentre.ca/wp-content/uploads/2026/03/son-sung-blue.png
END:VEVENT
BEGIN:VEVENT
DTSTART;TZID=America/Edmonton:20260419T130000
DTEND;TZID=America/Edmonton:20260419T150000
DTSTAMP:20260424T015649
CREATED:20260331T174028Z
LAST-MODIFIED:20260331T174028Z
UID:10004557-1776603600-1776610800@centennialcentre.ca
SUMMARY:Free Movie: Beethoven 2
DESCRIPTION:Movies are FREE thanks to Alstar Group.
URL:https://centennialcentre.ca/event/free-movie-beethoven-2/
LOCATION:Alstar Movie Theatre (Lecture Hall)
CATEGORIES:FREE Programming,Movie Showings
ATTACH;FMTTYPE=image/png:https://centennialcentre.ca/wp-content/uploads/2026/03/beethoven-2.png
END:VEVENT
END:VCALENDAR