BEGIN:VCALENDAR
VERSION:2.0
PRODID:-//Centennial Centre  - ECPv6.15.17.1//NONSGML v1.0//EN
CALSCALE:GREGORIAN
METHOD:PUBLISH
X-WR-CALNAME:Centennial Centre 
X-ORIGINAL-URL:https://centennialcentre.ca
X-WR-CALDESC:Events for Centennial Centre 
REFRESH-INTERVAL;VALUE=DURATION:PT1H
X-Robots-Tag:noindex
X-PUBLISHED-TTL:PT1H
BEGIN:VTIMEZONE
TZID:America/Edmonton
BEGIN:DAYLIGHT
TZOFFSETFROM:-0700
TZOFFSETTO:-0600
TZNAME:MDT
DTSTART:20250309T090000
END:DAYLIGHT
BEGIN:STANDARD
TZOFFSETFROM:-0600
TZOFFSETTO:-0700
TZNAME:MST
DTSTART:20251102T080000
END:STANDARD
BEGIN:DAYLIGHT
TZOFFSETFROM:-0700
TZOFFSETTO:-0600
TZNAME:MDT
DTSTART:20260308T090000
END:DAYLIGHT
BEGIN:STANDARD
TZOFFSETFROM:-0600
TZOFFSETTO:-0700
TZNAME:MST
DTSTART:20261101T080000
END:STANDARD
BEGIN:DAYLIGHT
TZOFFSETFROM:-0700
TZOFFSETTO:-0600
TZNAME:MDT
DTSTART:20270314T090000
END:DAYLIGHT
BEGIN:STANDARD
TZOFFSETFROM:-0600
TZOFFSETTO:-0700
TZNAME:MST
DTSTART:20271107T080000
END:STANDARD
END:VTIMEZONE
BEGIN:VEVENT
DTSTART;TZID=America/Edmonton:20260311T130000
DTEND;TZID=America/Edmonton:20260311T150000
DTSTAMP:20260423T211654
CREATED:20260302T214027Z
LAST-MODIFIED:20260302T214027Z
UID:10004494-1773234000-1773241200@centennialcentre.ca
SUMMARY:Free Movie: The Good House
DESCRIPTION:Movies are FREE thanks to Alstar Group.
URL:https://centennialcentre.ca/event/free-movie-the-good-house/
LOCATION:Alstar Movie Theatre (Lecture Hall)
CATEGORIES:FREE Programming,Movie Showings
ATTACH;FMTTYPE=image/png:https://centennialcentre.ca/wp-content/uploads/2026/03/The-Good-House.png
END:VEVENT
BEGIN:VEVENT
DTSTART;TZID=America/Edmonton:20260311T160000
DTEND;TZID=America/Edmonton:20260311T200000
DTSTAMP:20260423T211654
CREATED:20260212T000634Z
LAST-MODIFIED:20260212T000850Z
UID:10004092-1773244800-1773259200@centennialcentre.ca
SUMMARY:FREE Open Climb Time Wednesday
DESCRIPTION:Reach new heights at the Centennial Centre’s Open Climb Time! This program welcomes climbers of all experience levels to enjoy our climbing wall in a fun\, supportive setting. \n🕓 Drop-In Hours: Wednesdays 4:00–8:00 PM | Saturdays 12:00–4:00 PMNo registration required — simply drop in\, gear up\, and start your climb. Great for kids\, teens\, and families looking for an exciting indoor activity. \nSpecial thanks to Federation Construction for their support in bringing this program to our community. \n\nSave time when you complete your waiver form at home. Complete the fillable PDF\, print it off and bring it in to save time when registering. \n\nDownload Waiver to Complete
URL:https://centennialcentre.ca/event/free-open-climb-time-wednesday-3/2026-03-11/
LOCATION:Federation Construction Climbing Wall
CATEGORIES:Adult Recreation,FREE Programming,Indoor Climbing Wall,Kids Recreation,Recreation,Youth Programming
ATTACH;FMTTYPE=image/png:https://centennialcentre.ca/wp-content/uploads/2025/09/Open-Climb-Time-Generic.png
END:VEVENT
BEGIN:VEVENT
DTSTART;TZID=America/Edmonton:20260312T130000
DTEND;TZID=America/Edmonton:20260312T150000
DTSTAMP:20260423T211654
CREATED:20260302T214118Z
LAST-MODIFIED:20260302T214118Z
UID:10004495-1773320400-1773327600@centennialcentre.ca
SUMMARY:Free Movie: The One & Only Ivan
DESCRIPTION:Movies are FREE thanks to Alstar Group.
URL:https://centennialcentre.ca/event/free-movie-the-one-only-ivan/
LOCATION:Alstar Movie Theatre (Lecture Hall)
CATEGORIES:FREE Programming,Movie Showings
ATTACH;FMTTYPE=image/png:https://centennialcentre.ca/wp-content/uploads/2025/06/The-One-and-Only-Ivan.png
END:VEVENT
BEGIN:VEVENT
DTSTART;TZID=America/Edmonton:20260313T130000
DTEND;TZID=America/Edmonton:20260313T150000
DTSTAMP:20260423T211654
CREATED:20260302T214240Z
LAST-MODIFIED:20260302T214240Z
UID:10004496-1773406800-1773414000@centennialcentre.ca
SUMMARY:Free Movie: The Spy Who Dumped Me
DESCRIPTION:Movies are FREE thanks to Alstar Group.
URL:https://centennialcentre.ca/event/free-movie-the-spy-who-dumped-me/
LOCATION:Alstar Movie Theatre (Lecture Hall)
CATEGORIES:FREE Programming,Movie Showings
ATTACH;FMTTYPE=image/png:https://centennialcentre.ca/wp-content/uploads/2026/03/The-Spy-Who-Dumped-Me.png
END:VEVENT
BEGIN:VEVENT
DTSTART;TZID=America/Edmonton:20260313T190000
DTEND;TZID=America/Edmonton:20260313T210000
DTSTAMP:20260423T211654
CREATED:20260302T214329Z
LAST-MODIFIED:20260302T214329Z
UID:10004497-1773428400-1773435600@centennialcentre.ca
SUMMARY:Free Movie: Beauty & the Beast
DESCRIPTION:Movies are FREE thanks to Alstar Group.
URL:https://centennialcentre.ca/event/free-movie-beauty-the-beast/
LOCATION:Alstar Movie Theatre (Lecture Hall)
CATEGORIES:FREE Programming,Movie Showings
ATTACH;FMTTYPE=image/png:https://centennialcentre.ca/wp-content/uploads/2025/07/Beauty-the-Beast.png
END:VEVENT
BEGIN:VEVENT
DTSTART;TZID=America/Edmonton:20260314T120000
DTEND;TZID=America/Edmonton:20260314T160000
DTSTAMP:20260423T211654
CREATED:20260212T001023Z
LAST-MODIFIED:20260212T001024Z
UID:10002575-1773489600-1773504000@centennialcentre.ca
SUMMARY:FREE Open Climb Time Saturday
DESCRIPTION:Reach new heights at the Centennial Centre’s Open Climb Time! This program welcomes climbers of all experience levels to enjoy our climbing wall in a fun\, supportive setting. \n🕓 Drop-In Hours: Wednesdays 4:00–8:00 PM | Saturdays 12:00–4:00 PMNo registration required — simply drop in\, gear up\, and start your climb. Great for kids\, teens\, and families looking for an exciting indoor activity. \nSpecial thanks to Federation Construction for their support in bringing this program to our community. \n\nSave time when you complete your waiver form at home. Complete the fillable PDF\, print it off and bring it in to save time when registering. \n\nDownload Waiver to Complete
URL:https://centennialcentre.ca/event/free-open-climb-time-saturday-3-2/2026-03-14/
LOCATION:Federation Construction Climbing Wall
CATEGORIES:Adult Recreation,FREE Programming,Indoor Climbing Wall,Kids Recreation,Recreation,Youth Programming
ATTACH;FMTTYPE=image/png:https://centennialcentre.ca/wp-content/uploads/2025/09/Open-Climb-Time-Generic.png
END:VEVENT
BEGIN:VEVENT
DTSTART;TZID=America/Edmonton:20260314T130000
DTEND;TZID=America/Edmonton:20260314T150000
DTSTAMP:20260423T211654
CREATED:20260302T214415Z
LAST-MODIFIED:20260302T214415Z
UID:10004498-1773493200-1773500400@centennialcentre.ca
SUMMARY:Free Movie: Boonie Bears: The Big Shrink
DESCRIPTION:Movies are FREE thanks to Alstar Group.
URL:https://centennialcentre.ca/event/free-movie-boonie-bears-the-big-shrink/
LOCATION:Alstar Movie Theatre (Lecture Hall)
CATEGORIES:FREE Programming,Movie Showings
ATTACH;FMTTYPE=image/png:https://centennialcentre.ca/wp-content/uploads/2025/08/Boonie-Bears.png
END:VEVENT
BEGIN:VEVENT
DTSTART;TZID=America/Edmonton:20260314T190000
DTEND;TZID=America/Edmonton:20260314T210000
DTSTAMP:20260423T211654
CREATED:20260302T214519Z
LAST-MODIFIED:20260302T214519Z
UID:10004499-1773514800-1773522000@centennialcentre.ca
SUMMARY:Free Movie: TRON: Ares
DESCRIPTION:Movies are FREE thanks to Alstar Group.
URL:https://centennialcentre.ca/event/free-movie-tron-ares/
LOCATION:Alstar Movie Theatre (Lecture Hall)
CATEGORIES:FREE Programming,Movie Showings
ATTACH;FMTTYPE=image/png:https://centennialcentre.ca/wp-content/uploads/2026/01/TRON_-Ares.png
END:VEVENT
BEGIN:VEVENT
DTSTART;TZID=America/Edmonton:20260315T130000
DTEND;TZID=America/Edmonton:20260315T150000
DTSTAMP:20260423T211654
CREATED:20260302T214633Z
LAST-MODIFIED:20260302T214633Z
UID:10004500-1773579600-1773586800@centennialcentre.ca
SUMMARY:Free Movie: Moana 2
DESCRIPTION:Movies are FREE thanks to Alstar Group.
URL:https://centennialcentre.ca/event/free-movie-moana-2/
LOCATION:Alstar Movie Theatre (Lecture Hall)
CATEGORIES:FREE Programming,Movie Showings
ATTACH;FMTTYPE=image/jpeg:https://centennialcentre.ca/wp-content/uploads/2025/03/Moana-2-1.jpeg
END:VEVENT
BEGIN:VEVENT
DTSTART;TZID=America/Edmonton:20260316T130000
DTEND;TZID=America/Edmonton:20260316T150000
DTSTAMP:20260423T211654
CREATED:20260310T193147Z
LAST-MODIFIED:20260310T193147Z
UID:10004501-1773666000-1773673200@centennialcentre.ca
SUMMARY:Free Movie: Zootopia 2
DESCRIPTION:Movies are FREE thanks to Alstar Group.
URL:https://centennialcentre.ca/event/free-movie-zootopia-2/
LOCATION:Alstar Movie Theatre (Lecture Hall)
CATEGORIES:FREE Programming,Movie Showings
ATTACH;FMTTYPE=image/png:https://centennialcentre.ca/wp-content/uploads/2026/03/zootopia-2.png
END:VEVENT
BEGIN:VEVENT
DTSTART;TZID=America/Edmonton:20260317T130000
DTEND;TZID=America/Edmonton:20260317T150000
DTSTAMP:20260423T211654
CREATED:20260310T193254Z
LAST-MODIFIED:20260310T193254Z
UID:10004502-1773752400-1773759600@centennialcentre.ca
SUMMARY:Free Movie: High School Musical 2
DESCRIPTION:Movies are FREE thanks to Alstar Group.
URL:https://centennialcentre.ca/event/free-movie-high-school-musical-2/
LOCATION:Alstar Movie Theatre (Lecture Hall)
CATEGORIES:FREE Programming,Movie Showings
ATTACH;FMTTYPE=image/png:https://centennialcentre.ca/wp-content/uploads/2026/03/hsm2.png
END:VEVENT
BEGIN:VEVENT
DTSTART;TZID=America/Edmonton:20260318T130000
DTEND;TZID=America/Edmonton:20260318T150000
DTSTAMP:20260423T211654
CREATED:20260310T193403Z
LAST-MODIFIED:20260310T193403Z
UID:10004503-1773838800-1773846000@centennialcentre.ca
SUMMARY:Free Movie: Serenity
DESCRIPTION:Movies are FREE thanks to Alstar Group.
URL:https://centennialcentre.ca/event/free-movie-serenity/
LOCATION:Alstar Movie Theatre (Lecture Hall)
CATEGORIES:FREE Programming,Movie Showings
ATTACH;FMTTYPE=image/png:https://centennialcentre.ca/wp-content/uploads/2026/03/serenity.png
END:VEVENT
BEGIN:VEVENT
DTSTART;TZID=America/Edmonton:20260318T160000
DTEND;TZID=America/Edmonton:20260318T200000
DTSTAMP:20260423T211654
CREATED:20260212T000634Z
LAST-MODIFIED:20260212T000850Z
UID:10004093-1773849600-1773864000@centennialcentre.ca
SUMMARY:FREE Open Climb Time Wednesday
DESCRIPTION:Reach new heights at the Centennial Centre’s Open Climb Time! This program welcomes climbers of all experience levels to enjoy our climbing wall in a fun\, supportive setting. \n🕓 Drop-In Hours: Wednesdays 4:00–8:00 PM | Saturdays 12:00–4:00 PMNo registration required — simply drop in\, gear up\, and start your climb. Great for kids\, teens\, and families looking for an exciting indoor activity. \nSpecial thanks to Federation Construction for their support in bringing this program to our community. \n\nSave time when you complete your waiver form at home. Complete the fillable PDF\, print it off and bring it in to save time when registering. \n\nDownload Waiver to Complete
URL:https://centennialcentre.ca/event/free-open-climb-time-wednesday-3/2026-03-18/
LOCATION:Federation Construction Climbing Wall
CATEGORIES:Adult Recreation,FREE Programming,Indoor Climbing Wall,Kids Recreation,Recreation,Youth Programming
ATTACH;FMTTYPE=image/png:https://centennialcentre.ca/wp-content/uploads/2025/09/Open-Climb-Time-Generic.png
END:VEVENT
BEGIN:VEVENT
DTSTART;TZID=America/Edmonton:20260319T130000
DTEND;TZID=America/Edmonton:20260319T150000
DTSTAMP:20260423T211654
CREATED:20260310T193604Z
LAST-MODIFIED:20260310T193604Z
UID:10004504-1773925200-1773932400@centennialcentre.ca
SUMMARY:Free Movie: Patch Adams
DESCRIPTION:Movies are FREE thanks to Alstar Group.
URL:https://centennialcentre.ca/event/free-movie-patch-adams/
LOCATION:Alstar Movie Theatre (Lecture Hall)
CATEGORIES:FREE Programming,Movie Showings
ATTACH;FMTTYPE=image/png:https://centennialcentre.ca/wp-content/uploads/2026/03/patch-adams.png
END:VEVENT
BEGIN:VEVENT
DTSTART;TZID=America/Edmonton:20260320T130000
DTEND;TZID=America/Edmonton:20260320T150000
DTSTAMP:20260423T211654
CREATED:20260310T203532Z
LAST-MODIFIED:20260310T203532Z
UID:10004505-1774011600-1774018800@centennialcentre.ca
SUMMARY:Free Movie: Meet the Robinsons
DESCRIPTION:Movies are FREE thanks to Alstar Group.
URL:https://centennialcentre.ca/event/free-movie-meet-the-robinsons/
LOCATION:Alstar Movie Theatre (Lecture Hall)
CATEGORIES:FREE Programming,Movie Showings
ATTACH;FMTTYPE=image/png:https://centennialcentre.ca/wp-content/uploads/2025/09/Meet-the-Robinsons.png
END:VEVENT
BEGIN:VEVENT
DTSTART;TZID=America/Edmonton:20260320T190000
DTEND;TZID=America/Edmonton:20260320T210000
DTSTAMP:20260423T211654
CREATED:20260310T203658Z
LAST-MODIFIED:20260310T203658Z
UID:10004506-1774033200-1774040400@centennialcentre.ca
SUMMARY:Free Movie: Zootopia 2
DESCRIPTION:Movies are FREE thanks to Alstar Group.
URL:https://centennialcentre.ca/event/free-movie-zootopia-2-2/
LOCATION:Alstar Movie Theatre (Lecture Hall)
CATEGORIES:FREE Programming,Movie Showings
ATTACH;FMTTYPE=image/png:https://centennialcentre.ca/wp-content/uploads/2026/03/zootopia-2.png
END:VEVENT
BEGIN:VEVENT
DTSTART;TZID=America/Edmonton:20260321T120000
DTEND;TZID=America/Edmonton:20260321T160000
DTSTAMP:20260423T211654
CREATED:20260212T001023Z
LAST-MODIFIED:20260212T001024Z
UID:10002576-1774094400-1774108800@centennialcentre.ca
SUMMARY:FREE Open Climb Time Saturday
DESCRIPTION:Reach new heights at the Centennial Centre’s Open Climb Time! This program welcomes climbers of all experience levels to enjoy our climbing wall in a fun\, supportive setting. \n🕓 Drop-In Hours: Wednesdays 4:00–8:00 PM | Saturdays 12:00–4:00 PMNo registration required — simply drop in\, gear up\, and start your climb. Great for kids\, teens\, and families looking for an exciting indoor activity. \nSpecial thanks to Federation Construction for their support in bringing this program to our community. \n\nSave time when you complete your waiver form at home. Complete the fillable PDF\, print it off and bring it in to save time when registering. \n\nDownload Waiver to Complete
URL:https://centennialcentre.ca/event/free-open-climb-time-saturday-3-2/2026-03-21/
LOCATION:Federation Construction Climbing Wall
CATEGORIES:Adult Recreation,FREE Programming,Indoor Climbing Wall,Kids Recreation,Recreation,Youth Programming
ATTACH;FMTTYPE=image/png:https://centennialcentre.ca/wp-content/uploads/2025/09/Open-Climb-Time-Generic.png
END:VEVENT
BEGIN:VEVENT
DTSTART;TZID=America/Edmonton:20260321T130000
DTEND;TZID=America/Edmonton:20260321T150000
DTSTAMP:20260423T211654
CREATED:20260310T204043Z
LAST-MODIFIED:20260310T204043Z
UID:10004508-1774098000-1774105200@centennialcentre.ca
SUMMARY:Free Movie: Norm of the North
DESCRIPTION:Movies are FREE thanks to Alstar Group.
URL:https://centennialcentre.ca/event/free-movie-norm-of-the-north/
LOCATION:Alstar Movie Theatre (Lecture Hall)
CATEGORIES:FREE Programming,Movie Showings
ATTACH;FMTTYPE=image/png:https://centennialcentre.ca/wp-content/uploads/2026/01/norm-of-the-north.png
END:VEVENT
BEGIN:VEVENT
DTSTART;TZID=America/Edmonton:20260321T190000
DTEND;TZID=America/Edmonton:20260321T210000
DTSTAMP:20260423T211654
CREATED:20260310T203912Z
LAST-MODIFIED:20260310T203912Z
UID:10004507-1774119600-1774126800@centennialcentre.ca
SUMMARY:No Showing Due to Private Booking
DESCRIPTION:No Showing Due to Private Booking
URL:https://centennialcentre.ca/event/no-showing-due-to-private-booking/
LOCATION:Alstar Movie Theatre (Lecture Hall)
CATEGORIES:FREE Programming,Movie Showings
ATTACH;FMTTYPE=image/png:https://centennialcentre.ca/wp-content/uploads/2025/08/private-booking.png
END:VEVENT
BEGIN:VEVENT
DTSTART;TZID=America/Edmonton:20260322T130000
DTEND;TZID=America/Edmonton:20260322T150000
DTSTAMP:20260423T211654
CREATED:20260310T204150Z
LAST-MODIFIED:20260310T204150Z
UID:10004509-1774184400-1774191600@centennialcentre.ca
SUMMARY:Free Movie: Spirit Untamed
DESCRIPTION:Movies are FREE thanks to Alstar Group.
URL:https://centennialcentre.ca/event/free-movie-spirit-untamed/
LOCATION:Alstar Movie Theatre (Lecture Hall)
CATEGORIES:FREE Programming,Movie Showings
ATTACH;FMTTYPE=image/png:https://centennialcentre.ca/wp-content/uploads/2025/11/Spirit-Untamed.png
END:VEVENT
BEGIN:VEVENT
DTSTART;TZID=America/Edmonton:20260323T130000
DTEND;TZID=America/Edmonton:20260323T150000
DTSTAMP:20260423T211654
CREATED:20260316T195836Z
LAST-MODIFIED:20260316T195836Z
UID:10004515-1774270800-1774278000@centennialcentre.ca
SUMMARY:Free Movie: A Better Life
DESCRIPTION:Movies are FREE thanks to Alstar Group.
URL:https://centennialcentre.ca/event/free-movie-a-better-life/
LOCATION:Alstar Movie Theatre (Lecture Hall)
CATEGORIES:FREE Programming,Movie Showings
ATTACH;FMTTYPE=image/png:https://centennialcentre.ca/wp-content/uploads/2026/03/a-better-life.png
END:VEVENT
BEGIN:VEVENT
DTSTART;TZID=America/Edmonton:20260324T130000
DTEND;TZID=America/Edmonton:20260324T150000
DTSTAMP:20260423T211654
CREATED:20260316T200009Z
LAST-MODIFIED:20260316T200009Z
UID:10004516-1774357200-1774364400@centennialcentre.ca
SUMMARY:Free Movie: Now you See Me: Now You Don’t
DESCRIPTION:Movies are FREE thanks to Alstar Group.
URL:https://centennialcentre.ca/event/free-movie-now-you-see-me-now-you-dont/
LOCATION:Alstar Movie Theatre (Lecture Hall)
CATEGORIES:FREE Programming,Movie Showings
ATTACH;FMTTYPE=image/png:https://centennialcentre.ca/wp-content/uploads/2026/03/now-you-see-me-now-you-dont.png
END:VEVENT
BEGIN:VEVENT
DTSTART;TZID=America/Edmonton:20260325T130000
DTEND;TZID=America/Edmonton:20260325T150000
DTSTAMP:20260423T211654
CREATED:20260316T200105Z
LAST-MODIFIED:20260316T200105Z
UID:10004517-1774443600-1774450800@centennialcentre.ca
SUMMARY:Free Movie: Megamind
DESCRIPTION:Movies are FREE thanks to Alstar Group.
URL:https://centennialcentre.ca/event/free-movie-megamind/
LOCATION:Alstar Movie Theatre (Lecture Hall)
CATEGORIES:FREE Programming,Movie Showings
ATTACH;FMTTYPE=image/png:https://centennialcentre.ca/wp-content/uploads/2026/03/megamind.png
END:VEVENT
BEGIN:VEVENT
DTSTART;TZID=America/Edmonton:20260325T160000
DTEND;TZID=America/Edmonton:20260325T200000
DTSTAMP:20260423T211654
CREATED:20260212T000634Z
LAST-MODIFIED:20260212T000850Z
UID:10004094-1774454400-1774468800@centennialcentre.ca
SUMMARY:FREE Open Climb Time Wednesday
DESCRIPTION:Reach new heights at the Centennial Centre’s Open Climb Time! This program welcomes climbers of all experience levels to enjoy our climbing wall in a fun\, supportive setting. \n🕓 Drop-In Hours: Wednesdays 4:00–8:00 PM | Saturdays 12:00–4:00 PMNo registration required — simply drop in\, gear up\, and start your climb. Great for kids\, teens\, and families looking for an exciting indoor activity. \nSpecial thanks to Federation Construction for their support in bringing this program to our community. \n\nSave time when you complete your waiver form at home. Complete the fillable PDF\, print it off and bring it in to save time when registering. \n\nDownload Waiver to Complete
URL:https://centennialcentre.ca/event/free-open-climb-time-wednesday-3/2026-03-25/
LOCATION:Federation Construction Climbing Wall
CATEGORIES:Adult Recreation,FREE Programming,Indoor Climbing Wall,Kids Recreation,Recreation,Youth Programming
ATTACH;FMTTYPE=image/png:https://centennialcentre.ca/wp-content/uploads/2025/09/Open-Climb-Time-Generic.png
END:VEVENT
BEGIN:VEVENT
DTSTART;TZID=America/Edmonton:20260326T130000
DTEND;TZID=America/Edmonton:20260326T150000
DTSTAMP:20260423T211654
CREATED:20260316T200312Z
LAST-MODIFIED:20260316T200312Z
UID:10004520-1774530000-1774537200@centennialcentre.ca
SUMMARY:No Showing Due to Private Booking
DESCRIPTION:No Showing Due to Private Booking
URL:https://centennialcentre.ca/event/no-showing-due-to-private-booking-2/
LOCATION:Alstar Movie Theatre (Lecture Hall)
CATEGORIES:FREE Programming,Movie Showings
ATTACH;FMTTYPE=image/png:https://centennialcentre.ca/wp-content/uploads/2025/08/private-booking.png
END:VEVENT
BEGIN:VEVENT
DTSTART;TZID=America/Edmonton:20260327T130000
DTEND;TZID=America/Edmonton:20260327T150000
DTSTAMP:20260423T211654
CREATED:20260316T200215Z
LAST-MODIFIED:20260316T200215Z
UID:10004518-1774616400-1774623600@centennialcentre.ca
SUMMARY:Free Movie: Mulan
DESCRIPTION:Movies are FREE thanks to Alstar Group.
URL:https://centennialcentre.ca/event/free-movie-mulan/
LOCATION:Alstar Movie Theatre (Lecture Hall)
CATEGORIES:FREE Programming,Movie Showings
ATTACH;FMTTYPE=image/png:https://centennialcentre.ca/wp-content/uploads/2026/03/mulan.png
END:VEVENT
BEGIN:VEVENT
DTSTART;TZID=America/Edmonton:20260327T190000
DTEND;TZID=America/Edmonton:20260327T210000
DTSTAMP:20260423T211654
CREATED:20260316T200355Z
LAST-MODIFIED:20260316T200355Z
UID:10004519-1774638000-1774645200@centennialcentre.ca
SUMMARY:Free Movie: Song Sung Blue
DESCRIPTION:Movies are FREE thanks to Alstar Group.
URL:https://centennialcentre.ca/event/free-movie-song-sung-blue/
LOCATION:Alstar Movie Theatre (Lecture Hall)
CATEGORIES:FREE Programming,Movie Showings
ATTACH;FMTTYPE=image/png:https://centennialcentre.ca/wp-content/uploads/2026/03/son-sung-blue.png
END:VEVENT
BEGIN:VEVENT
DTSTART;TZID=America/Edmonton:20260328T120000
DTEND;TZID=America/Edmonton:20260328T160000
DTSTAMP:20260423T211654
CREATED:20260326T162932Z
LAST-MODIFIED:20260326T163101Z
UID:10002577-1774699200-1774713600@centennialcentre.ca
SUMMARY:FREE Open Climb Time Saturday
DESCRIPTION:Reach new heights at the Centennial Centre’s Open Climb Time! This program welcomes climbers of all experience levels to enjoy our climbing wall in a fun\, supportive setting. \n🕓 Drop-In Hours: Wednesdays 4:00–8:00 PM | Saturdays 12:00–4:00 PMNo registration required — simply drop in\, gear up\, and start your climb. Great for kids\, teens\, and families looking for an exciting indoor activity. \nSpecial thanks to Federation Construction for their support in bringing this program to our community. \nSave time when you complete your waiver form at home. Complete the fillable PDF\, print it off and bring it in to save time when registering. \nDownload Waiver to Complete
URL:https://centennialcentre.ca/event/free-open-climb-time-saturday-3-2-2/
LOCATION:Federation Construction Climbing Wall
CATEGORIES:Adult Recreation,FREE Programming,Indoor Climbing Wall,Kids Recreation,Recreation,Youth Programming
ATTACH;FMTTYPE=image/png:https://centennialcentre.ca/wp-content/uploads/2025/09/Open-Climb-Time-Generic.png
END:VEVENT
BEGIN:VEVENT
DTSTART;TZID=America/Edmonton:20260328T130000
DTEND;TZID=America/Edmonton:20260328T150000
DTSTAMP:20260423T211654
CREATED:20260316T200545Z
LAST-MODIFIED:20260316T200545Z
UID:10004521-1774702800-1774710000@centennialcentre.ca
SUMMARY:Free Movie: Zootopia 2
DESCRIPTION:Movies are FREE thanks to Alstar Group.
URL:https://centennialcentre.ca/event/free-movie-zootopia-2-3/
LOCATION:Alstar Movie Theatre (Lecture Hall)
CATEGORIES:FREE Programming,Movie Showings
ATTACH;FMTTYPE=image/png:https://centennialcentre.ca/wp-content/uploads/2026/03/zootopia-2.png
END:VEVENT
BEGIN:VEVENT
DTSTART;TZID=America/Edmonton:20260328T190000
DTEND;TZID=America/Edmonton:20260328T210000
DTSTAMP:20260423T211654
CREATED:20260316T200634Z
LAST-MODIFIED:20260316T200634Z
UID:10004522-1774724400-1774731600@centennialcentre.ca
SUMMARY:Free Movie: The Help
DESCRIPTION:Movies are FREE thanks to Alstar Group.
URL:https://centennialcentre.ca/event/free-movie-the-help/
LOCATION:Alstar Movie Theatre (Lecture Hall)
CATEGORIES:FREE Programming,Movie Showings
ATTACH;FMTTYPE=image/png:https://centennialcentre.ca/wp-content/uploads/2026/03/the-help.png
END:VEVENT
END:VCALENDAR